BEGIN:VCALENDAR
VERSION:2.0
PRODID:-//Squarespace Inc/Squarespace 6//v6//EN
BEGIN:VEVENT
UID:5b461dc9f950b713d5fcf56b@squarespace.com
DTSTAMP:20180928T004336Z
DTSTART:20181102T220000Z
DTEND:20181104T060000Z
SUMMARY:MELBOURNE MSK Exam Prep Course 2018
GEO:-37.811805;145.011393
LOCATION:Sports Health Physio & Sports Injury Clinic\, Medical One\, 620 Vi
 ctoria Street\, Richmond\, VIC\, 3121\, Australia
END:VEVENT
END:VCALENDAR
