BEGIN:VCALENDAR
VERSION:2.0
PRODID:-//Squarespace Inc/Squarespace 6//v6//EN
BEGIN:VEVENT
UID:5b6a33e52b6a28bb2181d62e@squarespace.com
DTSTAMP:20180913T052258Z
DTSTART:20181026T220000Z
DTEND:20181028T060000Z
SUMMARY:MSK Exam Prep BRISBANE 2018
GEO:-27.469771;153.025124
LOCATION:Brisbane\, Australia
END:VEVENT
END:VCALENDAR
